BEGIN:VCALENDAR
VERSION:2.0
PRODID:-//Wild Gratitude - Stacey Couch - ECPv6.15.20//NONSGML v1.0//EN
CALSCALE:GREGORIAN
METHOD:PUBLISH
X-WR-CALNAME:Wild Gratitude - Stacey Couch
X-ORIGINAL-URL:https://www.wildgratitude.com
X-WR-CALDESC:Events for Wild Gratitude - Stacey Couch
REFRESH-INTERVAL;VALUE=DURATION:PT1H
X-Robots-Tag:noindex
X-PUBLISHED-TTL:PT1H
BEGIN:VTIMEZONE
TZID:America/Denver
BEGIN:DAYLIGHT
TZOFFSETFROM:-0700
TZOFFSETTO:-0600
TZNAME:MDT
DTSTART:20230312T090000
END:DAYLIGHT
BEGIN:STANDARD
TZOFFSETFROM:-0600
TZOFFSETTO:-0700
TZNAME:MST
DTSTART:20231105T080000
END:STANDARD
BEGIN:DAYLIGHT
TZOFFSETFROM:-0700
TZOFFSETTO:-0600
TZNAME:MDT
DTSTART:20240310T090000
END:DAYLIGHT
BEGIN:STANDARD
TZOFFSETFROM:-0600
TZOFFSETTO:-0700
TZNAME:MST
DTSTART:20241103T080000
END:STANDARD
BEGIN:DAYLIGHT
TZOFFSETFROM:-0700
TZOFFSETTO:-0600
TZNAME:MDT
DTSTART:20250309T090000
END:DAYLIGHT
BEGIN:STANDARD
TZOFFSETFROM:-0600
TZOFFSETTO:-0700
TZNAME:MST
DTSTART:20251102T080000
END:STANDARD
END:VTIMEZONE
BEGIN:VEVENT
DTSTART;TZID=America/Denver:20240413T093000
DTEND;TZID=America/Denver:20240413T113000
DTSTAMP:20260421T182621
CREATED:20240219T190858Z
LAST-MODIFIED:20240306T172701Z
UID:530878-1713000600-1713007800@www.wildgratitude.com
SUMMARY:Beginning Shamanic Journey
DESCRIPTION:Every Other Saturday\, April 13 to May 11\n9:30am – 11:30am MDT\nCurious about shamanism? Wondering how to create a deeper spiritual connection? Join Shamanic Teacher\, Stacey Couch\, and four other spiritual seekers for this life-changing workshop to learn the primary technique of shamanism\, the shamanic journey. Receive instruction for accessing the spirit world and gathering messages from the Divine. Much like a waking dream and known as “soul-flight”\, shamanic journeys allow you to connect deeply with your soul and experience healing. With Stacey Couch\, you find a nurturing\, creative learning environment from which to embark on the journey of realizing your authentic self. Compassion surrounds you as you experience the heart of the Sacred in love with you. \nRegister Now
URL:https://www.wildgratitude.com/event/beginning-shamanic-journey/
LOCATION:Online
ATTACH;FMTTYPE=image/jpeg:https://www.wildgratitude.com/wp-content/uploads/2024/02/workshop-beginning-shamanic-journey-event-e1708370152285.jpg
ORGANIZER;CN="Stacey Couch":MAILTO:info@wildgratitude.com
END:VEVENT
END:VCALENDAR